BEGIN:VCALENDAR
VERSION:2.0
PRODID:-//wp-events-plugin.com//7.2.3.1//EN
BEGIN:VEVENT
UID:98@canmasdeu.net
DTSTART:20230305T110000Z
DTEND:20230305T193000Z
DTSTAMP:20230303T105849Z
URL:https://canmasdeu.net/eventos/pic-rai/
SUMMARY:PIC RAI
DESCRIPTION:✨PIC 30 ANYS DE RAI✨\n🎂FESTA D'ANIVERSARI 🎂\n\nESPAI 
 DOMO\nTallers oberts de RAI\n12h Taller de twerk @twerkyourlife2 🍑\n12:
 30h Exploració escènica by Garganta Abierta @gargantaabierta 👅\n\nESP
 AI INTERIOR\nTallers de RAI\n12h Capoeira @sombra_senzala_capoeira 🤼\n1
 3h Contact @davidinvisible 🤸\n\nESPAI PATI DEL PIC\n13h Fulvio Tulli (c
 antautor folk) 🎙️🎶\n\n13:30h Paella popular vegana 🍲\n\n14h Gra
 n Cabaret de RAI amb 🤡🎭🪄\nAndreia Moreira (clown)\,\nTxus Molina 
 (música/humor)\,\nCanSautores (impro musical I teatral)\,\nCía.MauTeatro
 . (teatre d'objectes)\nCeci Cubeta (hula hoop)\n\n16h Presentació campany
 a crowdfunding 💪🏼\n\n16:30h FANFARRAI! (balkan) 🎷🪗🎺\n\n17:3
 0h La Banda Mandanga 🥁\n\n18h Dj Lotine (afro&amp\;latin). 🕺\nAnimac
 ió i roda de salsa 💃\n\n🎫 🎩 A voluntat per als artistes\n\n🌱 
 Els diners recaptats es destinaran a la campanya per salvar RAI i evitar e
 l seu tancament.\n\n#RAIvive #laculturasigue
ATTACH;FMTTYPE=image/jpeg:https://canmasdeu.net/wp-content/uploads/2023/03
 /WhatsApp-Image-2023-03-03-at-08.28.47.jpeg
CATEGORIES:PIC - Centro Social
END:VEVENT
END:VCALENDAR