BEGIN:VCALENDAR
VERSION:2.0
PRODID:-//wp-events-plugin.com//7.2.3.1//EN
BEGIN:VEVENT
UID:166@canmasdeu.net
DTSTART:20230624T020000Z
DTEND:20230624T070000Z
DTSTAMP:20230620T102507Z
URL:https://canmasdeu.net/eventos/pic-maiz-morada-sab-24-junio/
SUMMARY:PIC Maiz Morada - Sab. 24 Junio
DESCRIPTION:Inti Raymi ☀️💛\n\nAmigxs\, por segundo año consecutivo 
 les convocamos para celebrar con nosotras el Inti Raymi. La cita es el pr
 óximo 24 de junio y esta edición estará llena de baile\, música\, merc
 adillo de artesanias\, comida peruana y mucho arte!\n\nQueremos celebrar y
  compartir con ustedes una de las fiestas más representativas del mundo a
 ndino\, la Fiesta del Sol ☀️ que para nosotras representa un puente de
  diálogo e interculturalidad entre el sur global y el territorio que nos 
 acoge 🌿✨🙌🏽\n\n🔸15h. - Abrimos las puertas\n🔸15:45h - Ritu
 al y pago a la tierra\n🔸16:15h - La Morenada\n🔸16:45h - Nati y Taba\
 n🔸18h - Las Forasteras del Sinakara\n🔸19:30h -Dj Re-Sister de @la_ot
 ra_rumbabcn\n🔸20:30h -Dj Karmelas hasta fin de fiesta\n\n📍 Dónde : 
 @canmasdeu\n📆 Cuándo: Sábado 24 de junio\, abrimos puertas desde las 
 15h.\n\nLES ESPERAMOS A TODES🌱🌱\n\n#intiraymi #bcnintercultural #dan
 zaandina #culturamigrante #ritual #latinoamerica #ofrenda #comunidadandina
  #barcelonacultural #canmasdeu\nhttps://www.instagram.com/p/CtcWY1NKfAM/?i
 gshid=Yjgz\n\n&nbsp\;\n\n
ATTACH;FMTTYPE=image/jpeg:https://canmasdeu.net/wp-content/uploads/2023/06
 /WhatsApp-Image-2023-06-16-at-11.14.07.jpeg
CATEGORIES:PIC - Centro Social
END:VEVENT
END:VCALENDAR