BEGIN:VCALENDAR
VERSION:2.0
PRODID:-//wp-events-plugin.com//7.2.3.1//EN
BEGIN:VEVENT
UID:1@canmasdeu.net
DTSTART:20221106T110000Z
DTEND:20221106T193000Z
DTSTAMP:20230216T172443Z
URL:https://canmasdeu.net/eventos/pic-baja-vision/
SUMMARY:PIC Baja Vision
DESCRIPTION:Con el fin de dar voz a la causa que concierne los problemas de
  visión en los niños\, en especial a aquellos menores de 6 y 3 años que
  padecen de Retinoblastoma\, el evento benéfico Baja Visión plantea junt
 o a Can MasDeu y la fundación La Nineta Dels Ulls un día dedicado a dive
 rsas actividades que tratan alrededor de este tema. Y si con un granito de
  arena se mueven montañas\, con un gesto pequeño podemos ayudar hacia es
 a investigación y así poder anticiparnos a esos tumores.\n\nProgramació
 n\n\n12:00h Talleres familiares: Espacio creativo donde se realizarán en
  familia y al ritmo del buen reggae diversas manualidades destinadas a los
  niños afectados por esta causa.\n\n13:00h Hora de la comilona:\n\n 	Men
 ú 6€:\n1) Arroz Basmati con salteado de verduras (pimiento verde\, rojo
  y amarillo\,\nalcachofa y zanahoria)\n2) Ensalada de garbanzos\n3) Postre
 s caseros (Brownie de chocolate\, tarta de zanahoria y tarta de\nqueso)\n 
 	Plato suelto 2\,5€.\n\n15:00h – Documental introductorio acerca de l
 a ceguera: Powerpoint / charla acerca del Retinoblastoma dada por la funda
 ción La Nineta Dels Meus Ulls.\n– Lectura de los cuentos de Pepi-Bruji 
 por Paul Rello.\n– Entrevista a la autora.\n– Talleres diversos para g
 ente diversa.\n\n17:00h Conciertos:\n– Effe: Artista del movimiento und
 erground que viene a ofrecernos un rap introspectivo con toques de crític
 a social.\n– Andrés Cerrato: Cantante de música urbana melódica con u
 n estilo diverso y personal.\n– El Yore: Rapero con unas letras introspe
 ctivas que invitan al autoanálisis y a la crítica personal.\n– Alba Ca
 rceller: Cantante independiente que nos deleitará con versiones de cancio
 nes conocidas.\n\n19:00h Sesión de música de los 60 hasta la actualidad
  por Dj Lepre.\n\n20:30h Fin del evento.
ATTACH;FMTTYPE=image/jpeg:https://canmasdeu.net/wp-content/uploads/2022/12
 /WhatsApp-Image-2022-11-03-at-9.30.11-AM-683x1024-1.jpg
CATEGORIES:PIC - Centro Social
END:VEVENT
END:VCALENDAR