BEGIN:VCALENDAR
VERSION:2.0
PRODID:-//wp-events-plugin.com//7.2.3.1//EN
BEGIN:VEVENT
UID:100@canmasdeu.net
DTSTART:20230416T110000Z
DTEND:20230416T200000Z
DTSTAMP:20230403T133630Z
URL:https://canmasdeu.net/ca/eventos/watch-the-med-pic-16-abril/
SUMMARY:WATCH THE MED - PIC 16 ABRIL
DESCRIPTION:🐚🐚🐚16 ABRIL PIC DE WATCH THE MED - ALARM PHONE EN CAN 
 MASDEU!🐚🐚🐚\n\n12.00 Vermut y Serigrafia (trae tu camiseta para es
 tampar o elige una totebag!)\n\n13.00 Bailoteo con Alora .O.\n\n14.00 Comi
 da\n\n16.00 Presentación y proyección 'Industria de frontera' con la par
 ticipación de su realizadora\n\n17.00 Charla informativa 'Actualidad de l
 as violencias en las fronteras de la fortaleza europea' con la participaci
 ón de Solidary Wheels y Alarm Phone\n\n18.00 Rifa solidaria y bailoteo co
 n La Niña Mai\n\nVente el 16 de abril a pasar el día a Can Masdeu y conj
 urar juntes contra las fronteras europeas y las necropolíticas asesinas!\
 n\n🗣 Libertad de movimiento para todes\, no sólo para unes poques!🔥
 🔥🔥\n\n+Info sobre la red en:\nhttps://alarmphone.org/es/\nTwitter: @
 alarm_phone
ATTACH;FMTTYPE=image/jpeg:https://canmasdeu.net/wp-content/uploads/2023/04
 /WhatsApp-Image-2023-04-02-at-14.16.21.jpeg
CATEGORIES:PIC - Centro Social
END:VEVENT
END:VCALENDAR