BEGIN:VCALENDAR
VERSION:2.0
PRODID:-//wp-events-plugin.com//7.2.3.1//EN
BEGIN:VEVENT
UID:97@canmasdeu.net
DTSTART:20230225T100000Z
DTEND:20230225T220000Z
DTSTAMP:20230216T172547Z
URL:https://canmasdeu.net/ca/eventos/can-masdeu-carnaval/
SUMMARY:Can Masdeu Carnaval
DESCRIPTION:El Sabado 25 de Febrero os invitamos a celebrar un PIC de casa 
 Can Masdeu con el tema Carnaval! Queda pendiente aqui o en las redes para 
 mas informacion!
ATTACH;FMTTYPE=image/jpeg:https://canmasdeu.net/wp-content/uploads/2023/02
 /PIC-252-CMD.jpg
CATEGORIES:PIC - Centro Social
END:VEVENT
END:VCALENDAR